BEGIN:VCALENDAR
VERSION:2.0
PRODID:-//Turkish Belgian Friendship and Cultural Association - ECPv6.2.3//NONSGML v1.0//EN
CALSCALE:GREGORIAN
METHOD:PUBLISH
X-WR-CALNAME:Turkish Belgian Friendship and Cultural Association
X-ORIGINAL-URL:https://www.tbaassn.com
X-WR-CALDESC:Events for Turkish Belgian Friendship and Cultural Association
REFRESH-INTERVAL;VALUE=DURATION:PT1H
X-Robots-Tag:noindex
X-PUBLISHED-TTL:PT1H
BEGIN:VTIMEZONE
TZID:UTC
BEGIN:STANDARD
TZOFFSETFROM:+0000
TZOFFSETTO:+0000
TZNAME:UTC
DTSTART:20230101T000000
END:STANDARD
END:VTIMEZONE
BEGIN:VEVENT
DTSTART;TZID=UTC:20260328T140000
DTEND;TZID=UTC:20260328T170000
DTSTAMP:20260426T014916
CREATED:20250313T211456Z
LAST-MODIFIED:20260310T135457Z
UID:14724-1774706400-1774717200@www.tbaassn.com
SUMMARY:You Are Invited to Our General Assembly Meeting!
DESCRIPTION:Dear Members\, \nWe are coming together for the Ordinary General Assembly Meeting to shape the future of our association\, make important decisions collectively\, and strengthen our solidarity! \n Date: Saturday\, March 28\, 2026 \n Time: 2:00 PM \n Location: Puratos Gıda / Ankara İnovasyon Merkezi |Mehmet Akif Ersoy Mah. 274. Sokak A Blok No:108\, Wings Ankara\, Yenimahalle / Ankara \nDuring this meeting\, crucial decisions regarding the management\, activities\, and budget of our association will be made. Additionally\, the elections for the new Board of Directors and Supervisory Board will take place. The participation of all members is highly important. \nIf the required quorum cannot be reached at this meeting\, the second meeting will be held on 04 April 2026 at the same time and location\, without seeking a quorum. \nWe would be delighted to have you with us as we build our future together! \nFor more details and participation information\, please contact us. \nBest regards\,
URL:https://www.tbaassn.com/event/general-assembly-meeting/
LOCATION:Puratos Gıda / Ankara İnovasyon Merkezi\, Mehmet Akif Ersoy Mah. 274. Sokak A Blok No:108\, Wings Ankara\, Ankara\, Yenimahalle\, 06200\, Turkey
END:VEVENT
BEGIN:VEVENT
DTSTART;TZID=UTC:20241212T183000
DTEND;TZID=UTC:20241212T203000
DTSTAMP:20260426T014916
CREATED:20241206T191536Z
LAST-MODIFIED:20241206T191613Z
UID:14656-1734028200-1734035400@www.tbaassn.com
SUMMARY:✨ TBA Christmas Gathering with Ambassador Hendrik Van de Velde
DESCRIPTION:The Turkish Belgian Friendship and Cultural Association warmly invites you to a festive Christmas gathering! Join us as we celebrate the season of joy and welcome Hendrik Van de Velde\, Ambassador of Belgium to Türkiye into our TBA community. \n️ Date: 12 December \nLocation: Mövenpick Hotel\, Ankara \n⏰ Time: 16:30 \nParticipation Fee: 800 TL per person (Transfer to the TBA Bank Account before the event.) \nMenu: \n2 glasses of wine or 2 bottles of beer \nBruschetta \nFried chicken \nSnacks \nRSVP by 10 December to secure your spot! Contact us at info@tbaassn.com
URL:https://www.tbaassn.com/event/%e2%9c%a8-tba-christmas-gathering-with-ambassador-hendrik-van-de-velde/
LOCATION:Yenimahalle
ATTACH;FMTTYPE=image/png:https://www.tbaassn.com/wp-content/uploads/2024/12/XMAS_DEC-12.png
END:VEVENT
BEGIN:VEVENT
DTSTART;TZID=UTC:20241208T100000
DTEND;TZID=UTC:20241208T100000
DTSTAMP:20260426T014916
CREATED:20241125T144206Z
LAST-MODIFIED:20241125T144215Z
UID:14649-1733652000-1733652000@www.tbaassn.com
SUMMARY:Saint Nicholas Is Coming to Town!
DESCRIPTION:Saint Nicholas Is Coming to Town!  \nJoin us for a magical celebration in honor of Saint Nicholas\, a beloved tradition that brings joy to the season! \nEvent Details \nDate: December 8th \nLocation: Netherlands Embassy Residence \nAddress: Ziaur Rahman Cd. No:21\, Çankaya/Ankara \n⏰ Time: 10:00 – 12:00 \nCome and enjoy: \n• Gift-giving for children \n• Traditional music and festive carols \n• Delicious treats and refreshments \nHow to Register \nTo confirm your attendance\, please fill out the registration form here: \nRegister Now \nContact Us \nEmail: info@tbaassn.com \nWe look forward to celebrating this joyful occasion with you. Don’t miss this chance to make wonderful memories!
URL:https://www.tbaassn.com/event/saint-nicholas-is-coming-to-town/
LOCATION:Netherlands Ambassador Residence\, Ziaur Rahman Cd. No:21\, Ankara\, Çankaya\, Turkey
ATTACH;FMTTYPE=image/png:https://www.tbaassn.com/wp-content/uploads/2024/11/Red-Blue-Cute-Playful-Saint-Nicholas-Day-Holiday-Instagram-Post-Hikayeniz.png
END:VEVENT
BEGIN:VEVENT
DTSTART;TZID=UTC:20241020T120000
DTEND;TZID=UTC:20241020T170000
DTSTAMP:20260426T014916
CREATED:20241016T115807Z
LAST-MODIFIED:20241016T120029Z
UID:14640-1729425600-1729443600@www.tbaassn.com
SUMMARY:Kalecik Vine-Harvesting and Wine Tasting
DESCRIPTION:We are excited to announce the new date for our Kalecik Vine-Harvesting and Wine Tasting event! Originally scheduled for September 15\, the event will now take place on October 20\, 2024. This is a great opportunity to enjoy the beauty of Kalecik vineyards\, hosted by Kalvi Şarap. \nNew Date: October 20\, 2024\nLocation: Kalecik\, Kalvi Şarap \nThe package includes:\nCheese Plate\nWine Tasting\nCasserole\nRice\nSalad \nPrice: 750 TL (per person) \nPlease note that the fee must be paid before the RSVP deadline. Your attendance will only be confirmed after payment is made. \nBank Information:\nAccount Name: TÜRK-BELÇİKA DOSTLUK VE KÜLTÜR DERNEĞİ\nIBAN: TR 8300 0100 1306 0365 3641 5004\n(Please include your name and surname – event fee in the payment description.) \nRSVP Deadline: October 16\, 2024 \nIf you need transportation from Ankara\, feel free to let us know so we can assist with arrangements. \nWe’re also excited to announce a raffle at the end of the event with special surprises for participants! \nFor more info and reservations: info@tbaassn.com\nWe look forward to seeing you there!
URL:https://www.tbaassn.com/event/kalecik-vine-harvesting-and-wine-tasting/
LOCATION:Yenimahalle
ATTACH;FMTTYPE=image/png:https://www.tbaassn.com/wp-content/uploads/2024/10/KALECIK-VINE-TASTING.png
END:VEVENT
BEGIN:VEVENT
DTSTART;TZID=UTC:20241006T150000
DTEND;TZID=UTC:20241006T180000
DTSTAMP:20260426T014916
CREATED:20240924T201859Z
LAST-MODIFIED:20240925T104527Z
UID:14628-1728226800-1728237600@www.tbaassn.com
SUMMARY:Belgian Beer Tasting Event
DESCRIPTION:Explore the Rich Beer Cultures of Belgium & Türkiye!  \nWe are thrilled to invite you to the Belgian Beer Tasting Event organized by the Turkish Belgium Friendship Association. Join us for an unforgettable afternoon as we dive into the world of Belgian and Turkish beers\, guided by Cem Atay\, the esteemed President of the Beer Collectors Club of Türkiye. This event will be a perfect mix of education\, delicious beers\, and gourmet food! \nEvent Details \n•Date: October 6th\, 2024 \n•Time: 3:00 PM – 6:00 PM \n•Location: Primitif Birahane\, Caferağa\, Kadıköy\, İstanbul \nWhat’s Included? \n Beer Tasting \nGet ready to sample four different styles of beer from both Belgian and Turkish traditions: \n•Efes 40 Cl \n•3 Kafadar Belgian Blond \n•ST. Bernardus Monastery Beer \n•Novaroma Belgian Quadrupel \n️ Gourmet Food \nPair your beers with a delicious variety of dishes\, thoughtfully curated to complement the drinks\, including: \n•Oklahoma Smash Burger \n•Bar Pizza \n•Mac & Cheese \n•A delectable starter platter featuring smoked Circassian cheese\, aged cheddar\, dried meat\, pickles\, crackers\, and chutney. \nSpecial Presentation by Cem Atay \nCem Atay\, a recognized expert in the world of beers\, will walk us through the essentials of beer appreciation. You’ll learn about: \n•The origins and production process of beer \n•How to serve and drink beer like a pro \n•Different types of beer and their characteristics \n•Food pairings with beer \nWhether you’re a beer enthusiast or just curious to learn more\, this session is a fantastic opportunity to deepen your understanding and enjoy a taste of Belgian and Turkish brewing traditions. \nEvent Price \n•1600 TL per person \nThis includes all beer tastings and food. \nRSVP \nSeats are limited\, so don’t miss out on this exclusive event! Please RSVP by October 2nd\, 2024\, to secure your spot. You can confirm your attendance by contacting us at info@tbaassn.com \nLocation \nPrimitif Birahane \nCaferağa\, Dr. Esat Işık Cd. No:98\, 34710 Kadıköy\, İstanbul
URL:https://www.tbaassn.com/event/belgian-beer-tasting-event/
LOCATION:Primitif Birahane\, Caferağa\, Dr. Esat Işık Cd. No:98\,\, Istanbul\, Kadıköy\, 34710\, Turkey
CATEGORIES:Category Event
ATTACH;FMTTYPE=image/png:https://www.tbaassn.com/wp-content/uploads/2024/09/BEER-TALKS.png
END:VEVENT
BEGIN:VEVENT
DTSTART;VALUE=DATE:20240608
DTEND;VALUE=DATE:20240609
DTSTAMP:20260426T014916
CREATED:20240526T191805Z
LAST-MODIFIED:20240925T104534Z
UID:14591-1717804800-1717891199@www.tbaassn.com
SUMMARY:Mini Euro 2024 - Participation
DESCRIPTION:TBA Participation in Mini Europe 2024\nTBA took part of Mini Europe 2024\, organized by the Embassy of the Federal Republic of Germany. This vibrant events celebrate the cultural diversity of Europe\, bringing together various communities to showcase their unique heritage.\nOn 8th June at Kuzey Halı Saha\, Öveçler we experienced a day filled with football and competition. The association also served delicious Belgian sauces to enhance the flavor of the lunch.\nMini Europe 2024 was a fantastic opportunity to strengthen the bonds between our communities and promote mutual understanding and appreciation of our rich cultures. We’re thrilled to have SpesHealth as our sponsor for this tournament. Their generous support plays a crucial role in making this event a success. We’re proud to have you on our team!
URL:https://www.tbaassn.com/event/mini-euro-2024-participation/
LOCATION:Yenimahalle
CATEGORIES:Category Event
ATTACH;FMTTYPE=image/jpeg:https://www.tbaassn.com/wp-content/uploads/2024/05/IMG_9085-1-scaled.jpg
END:VEVENT
BEGIN:VEVENT
DTSTART;TZID=UTC:20240430T093000
DTEND;TZID=UTC:20240430T123000
DTSTAMP:20260426T014916
CREATED:20240526T182839Z
LAST-MODIFIED:20240925T104542Z
UID:14581-1714469400-1714480200@www.tbaassn.com
SUMMARY:TBA TALKS
DESCRIPTION:The panel\, organized in partnership with Turkey Belgium Friendship and Culture Association and Bilkent Union\, will focus on Belgium’s presidency of the Council of the EU and the College of Europe application process. During the panel\, Belgium’s Ambassador to Ankara Paul Huynen will discuss the Belgian presidency of the Council of the EU and Belgium’s priorities\, while College of Europe alumnus Uğur Akpınar will talk about the College of Europe application process. Dr. Tuğba Bayar from the IR department will deliver the keynote speech and discuss Turkey-Belgium relations in the context of the EU.\nThis panel will provide students with the opportunity to exchange knowledge and experience on important issues through the Ambassador of the subject country and an academic. They will also have the opportunity to get detailed information about postgraduate education at the College of Europe\, which trains the well-equipped EU experts and future Turkish Eurocrats that our country needs in line with the goal of full membership to the European Union.
URL:https://www.tbaassn.com/event/tba-talks/
LOCATION:Bilkent University
CATEGORIES:Category Event
ATTACH;FMTTYPE=image/png:https://www.tbaassn.com/wp-content/uploads/2024/05/30-April-2024.png
END:VEVENT
BEGIN:VEVENT
DTSTART;TZID=UTC:20231204T100000
DTEND;TZID=UTC:20231204T130000
DTSTAMP:20260426T014916
CREATED:20240526T183149Z
LAST-MODIFIED:20240925T104548Z
UID:14586-1701684000-1701694800@www.tbaassn.com
SUMMARY:Anıtkabir
DESCRIPTION:📢📢 \nHello TBA Members! \nWe’re excited to invite you to a special event in honor of the Republic’s centenary and the 185th anniversary of diplomatic ties between Belgium and Türkiye. Join us for a wreath-laying ceremony at Anıtkabir\, paying tribute to Mustafa Kemal Atatürk\, the founder of Türkiye. \n**Event Details:**\n– **Date:** December 9th\, 2023\n– **Time:** 10:00\n– **Location:** Anıtkabir\, Türkiye \nAfter the ceremony\, there’ll be a guided tour to explore the historical significance of Anıtkabir. \nPlease confirm your attendance by replying to this message or contacting us at info@tbaassn.com by December 4. \nWe expect to be at Anıtkabir with all our members on this meaningful visit! \nBest\, \n— \nMerhaba TBA Üyeleri! \nCumhuriyetin 100. yılı ve Belçika ile Türkiye arasındaki diplomatik ilişkilerin 185. yılını anmak adına sizi özel bir etkinliğe davet etmekten mutluluk duyuyoruz. Türkiye Cumhuriyeti’nin kurucusu Mustafa Kemal Atatürk’e saygı göstermek için Anıtkabir’de düzenlenecek çelenk koyma törenimize katılın. \n**Etkinlik Detayları:**\n– **Tarih:** 9 Aralık 2023\n– **Saat:** 10:00\n– **Yer:** Anıtkabir\, Türkiye \nTörenin ardından Anıtkabir’in tarihini keşfetmek için rehber eşliğinde bir tur düzenlenecektir. \nLütfen katılımınızı 4 Aralık’a kadar bu mesaja yanıtlayarak veya info@tbaassn.com adresinden bize bildirin. \nBu anlamlı ziyarette tüm üyelerimizle Anıtkabir’de olmayı bekliyoruz! \nSaygılarımızla\,
URL:https://www.tbaassn.com/event/14586/
LOCATION:Yenimahalle
CATEGORIES:Category Event
ATTACH;FMTTYPE=image/jpeg:https://www.tbaassn.com/wp-content/uploads/2024/05/09-Aralik-09-December-Anitbakir.jpg
END:VEVENT
BEGIN:VEVENT
DTSTART;TZID=UTC:20230618T100000
DTEND;TZID=UTC:20230618T133000
DTSTAMP:20260426T014916
CREATED:20240526T182432Z
LAST-MODIFIED:20240526T182432Z
UID:14577-1687082400-1687095000@www.tbaassn.com
SUMMARY:Fathers Day Brunch
DESCRIPTION:📢 Important Announcement! Join us for a Delightful Brunch and Father’s Day Atelier! 🥐🍳🎉 \n📆 Date: Sunday\, June 18\, 2023\n⏰ Time: 10:00 AM\n🏠 Venue: Fevzi Hoca Söğütözü | Söğütözü Cad\, Eski Saklı Bahçe Karşısı 8/6\, 06560 Çankaya \n🥳 Calling all members of the Turkish Belgian Association! 🇹🇷🇧🇪 Come together with your families for a wonderful brunch event where delicious food and great company await you! 🍽️😋 \n👨‍👩‍👧‍👦 But that’s not all! We have a special surprise for the kids! 🎁✂️ After brunch\, they will get the chance to create handmade gifts for their fathers at our Father’s Day Atelier! It will be a day filled with love and creativity. 💝👨‍👦 \n💵 Pricing Details:\n👩‍👩‍👦 Adults: 220 TL per person\n👶 Children under 7 years old: Free of charge\n👦 Children between 7 and 12 years old: 100 TL \n📝 Please RSVP by Wednesday\, June 14\, by contacting us at +905078826404 or sending an email to info@tbaassn.com. Let us know how many family members will be attending. \n👉 Don’t miss this opportunity to connect with other members of the Turkish Belgian Association and celebrate Father’s Day in style! 🎉🎊 We look forward to seeing you there! \nFor any inquiries or more information\, feel free to reach out to us.
URL:https://www.tbaassn.com/event/fathers-day-brunch/
LOCATION:Fevzi Hoca Balık Lokantası\, Söğütözü Cad\, Eski Saklı Bahçe Karşısı 8/6\, 06560 Çankaya\, Ankara\, Turkey
ATTACH;FMTTYPE=image/png:https://www.tbaassn.com/wp-content/uploads/2024/05/Ekran-Resmi-2024-05-26-21.24.11.png
END:VEVENT
BEGIN:VEVENT
DTSTART;TZID=UTC:20230415T183000
DTEND;TZID=UTC:20230415T220000
DTSTAMP:20260426T014916
CREATED:20170425T101855Z
LAST-MODIFIED:20231113T172528Z
UID:782-1681583400-1681596000@www.tbaassn.com
SUMMARY:Iftar Dinner and Easter Surprise
DESCRIPTION:Iftar Dinner and Easter Surprises: A Double Celebration of Community Harmony \nGathering beneath the stars at Gazi Parkı\, our community recently enjoyed a delightful fusion of traditions with an Iftar Dinner and a special Easter Surprise for the kids. As the sun set on April 15\, 2023\, laughter and joy filled the air. \nThe Iftar Dinner brought us together\, transcending cultural boundaries as we broke our fast in unity. The diverse menu and warm conversations created memories that will linger. Simultaneously\, the kids reveled in Easter festivities\, including egg hunts and face painting\, adding an extra layer of joy to the evening. \nThis dual celebration exemplified the strength found in our unity and the beauty in embracing our diverse community. Here’s to more moments of togetherness and celebration! 🌙🐰 \n 
URL:https://www.tbaassn.com/event/iftareaster/
LOCATION:Atatürk Orman Çiftliği Gazi Parkı\, Bahçekapı Mah. Güvercinlik Cad. Atatürk Orman Çiftliği Gazi Parkı İçi No:5/1\, Ankara\, Turkey
CATEGORIES:Category Event
ATTACH;FMTTYPE=image/jpeg:https://www.tbaassn.com/wp-content/uploads/2017/04/PHOTO-2023-04-10-12-01-17.jpg
END:VEVENT
END:VCALENDAR